BEGIN:VCALENDAR
VERSION:2.0
PRODID:-//destination.one//NONSGML destination.meta API//DE
X-WR-CALDESC:A calendar powered by destination.meta
X-WR-CALNAME:oberpfaelzerwald Kalender via destination.meta
BEGIN:VEVENT
CATEGORIES:Gesundheit/Wellness
CATEGORIES:Sonstiges
DESCRIPTION:Im evangelischen Gemeindesaal unter Leitung von Thea Schwärzler
  ein Tanzabend "mal beschwingt\, mal meditativ".\n\nmehr Informationen unt
 er http://pages.destination.one/de/oberpfaelzerwald/streaming/detail/Event
 /e_101143503/kreist-nze-mal-meditativ-mal-beschwingt
DTEND;TZID=Europe/Berlin:20251111T235900
DTSTAMP:20260420T002312Z
DTSTART;TZID=Europe/Berlin:20251111T190000
GEO:49.458515;12.414615
LOCATION:Evangelische Kirchengemeinde\, Martin-Luther-Str. 4\, Oberviechtac
 h
ORGANIZER;CN=Katholische Pfarrei Oberviechtach:mailto:oberviechtach@bistum-
 regensburg.de
SEQUENCE:0
SUMMARY:"Kreistänze" - mal meditativ\, mal beschwingt
UID:e_101143503_iv0
URL:http://pages.destination.one/de/oberpfaelzerwald/streaming/detail/Event
 /e_101143503/kreist-nze-mal-meditativ-mal-beschwingt
END:VEVENT
BEGIN:VEVENT
CATEGORIES:Gesundheit/Wellness
CATEGORIES:Sonstiges
DESCRIPTION:Im evangelischen Gemeindesaal unter Leitung von Thea Schwärzler
  ein Tanzabend "mal beschwingt\, mal meditativ".\n\nmehr Informationen unt
 er http://pages.destination.one/de/oberpfaelzerwald/streaming/detail/Event
 /e_101143503/kreist-nze-mal-meditativ-mal-beschwingt
DTEND;TZID=Europe/Berlin:20260310T235900
DTSTAMP:20260420T002312Z
DTSTART;TZID=Europe/Berlin:20260310T193000
GEO:49.458515;12.414615
LOCATION:Evangelische Kirchengemeinde\, Martin-Luther-Str. 4\, Oberviechtac
 h
ORGANIZER;CN=Katholische Pfarrei Oberviechtach:mailto:oberviechtach@bistum-
 regensburg.de
SEQUENCE:0
SUMMARY:"Kreistänze" - mal meditativ\, mal beschwingt
UID:e_101143503_iv1
URL:http://pages.destination.one/de/oberpfaelzerwald/streaming/detail/Event
 /e_101143503/kreist-nze-mal-meditativ-mal-beschwingt
END:VEVENT
BEGIN:VEVENT
CATEGORIES:Gesundheit/Wellness
CATEGORIES:Sonstiges
DESCRIPTION:Im evangelischen Gemeindesaal unter Leitung von Thea Schwärzler
  ein Tanzabend "mal beschwingt\, mal meditativ".\n\nmehr Informationen unt
 er http://pages.destination.one/de/oberpfaelzerwald/streaming/detail/Event
 /e_101143503/kreist-nze-mal-meditativ-mal-beschwingt
DTEND;TZID=Europe/Berlin:20260414T235900
DTSTAMP:20260420T002312Z
DTSTART;TZID=Europe/Berlin:20260414T193000
GEO:49.458515;12.414615
LOCATION:Evangelische Kirchengemeinde\, Martin-Luther-Str. 4\, Oberviechtac
 h
ORGANIZER;CN=Katholische Pfarrei Oberviechtach:mailto:oberviechtach@bistum-
 regensburg.de
SEQUENCE:0
SUMMARY:"Kreistänze" - mal meditativ\, mal beschwingt
UID:e_101143503_iv2
URL:http://pages.destination.one/de/oberpfaelzerwald/streaming/detail/Event
 /e_101143503/kreist-nze-mal-meditativ-mal-beschwingt
END:VEVENT
BEGIN:VTIMEZONE
TZID:Europe/Berlin
X-LIC-LOCATION:Europe/Berlin
BEGIN:DAYLIGHT
DTSTART:19700329T020000
RRULE:FREQ=YEARLY;BYDAY=-1SU;BYMONTH=3
TZNAME:CEST
TZOFFSETFROM:+0100
TZOFFSETTO:+0200
END:DAYLIGHT
BEGIN:STANDARD
DTSTART:19701025T030000
RRULE:FREQ=YEARLY;BYDAY=-1SU;BYMONTH=10
TZNAME:CET
TZOFFSETFROM:+0200
TZOFFSETTO:+0100
END:STANDARD
END:VTIMEZONE
END:VCALENDAR
