BEGIN:VCALENDAR
VERSION:2.0
PRODID:-//destination.one//NONSGML destination.meta API//DE
X-WR-CALDESC:A calendar powered by destination.meta
X-WR-CALNAME:oberpfaelzerwald Kalender via destination.meta
BEGIN:VEVENT
CATEGORIES:Brauchtum/Kultur
CATEGORIES:Gastronomie
CATEGORIES:Kinderprogramm
CATEGORIES:Volks- und Straßenfeste
DESCRIPTION:Auch in diesem Jahr findet das traditionelle Hoffest der Stadtk
 apelle Oberviechtach statt.\n\nmehr Informationen unter http://pages.desti
 nation.one/de/oberpfaelzerwald/streaming/detail/Event/e_101146426/hoffest-
 der-stadtkapelle-oberviechtach
DTEND;TZID=Europe/Berlin:20260604T180000
DTSTAMP:20260421T105136Z
DTSTART;TZID=Europe/Berlin:20260604T110000
GEO:49.458927;12.416922
LOCATION:Parkplatz bei der Verwaltungsgemeinschaft OVI\, Bezirksamtstraße 5
 \, Oberviechtach
ORGANIZER;CN=Stadtkapelle Oberviechtach e. V. :mailto:vorstand@stadtkapelle
 -oberviechtach.de
SEQUENCE:0
SUMMARY:Hoffest der Stadtkapelle Oberviechtach
UID:e_101146426_iv0
URL:http://pages.destination.one/de/oberpfaelzerwald/streaming/detail/Event
 /e_101146426/hoffest-der-stadtkapelle-oberviechtach
END:VEVENT
BEGIN:VTIMEZONE
TZID:Europe/Berlin
X-LIC-LOCATION:Europe/Berlin
BEGIN:DAYLIGHT
DTSTART:19700329T020000
RRULE:FREQ=YEARLY;BYDAY=-1SU;BYMONTH=3
TZNAME:CEST
TZOFFSETFROM:+0100
TZOFFSETTO:+0200
END:DAYLIGHT
BEGIN:STANDARD
DTSTART:19701025T030000
RRULE:FREQ=YEARLY;BYDAY=-1SU;BYMONTH=10
TZNAME:CET
TZOFFSETFROM:+0200
TZOFFSETTO:+0100
END:STANDARD
END:VTIMEZONE
END:VCALENDAR
