BEGIN:VCALENDAR
VERSION:2.0
PRODID:-//destination.one//NONSGML destination.meta API//DE
X-WR-CALDESC:A calendar powered by destination.meta
X-WR-CALNAME:oberpfaelzerwald Kalender via destination.meta
BEGIN:VEVENT
CATEGORIES:Ausstellung
DESCRIPTION:Ausstellungszeitraum: 26.04.2026 - 07.06.2026\n\nmehr Informati
 onen unter http://pages.destination.one/de/oberpfaelzerwald/streaming/deta
 il/Event/e_101172584/ausstellungser-ffnung-nein-boris-lurie-und-no-art
DTEND;TZID=Europe/Berlin:20260426T120000
DTSTAMP:20260420T002813Z
DTSTART;TZID=Europe/Berlin:20260426T110000
GEO:49.340967;12.123819
LOCATION:Oberpfälzer Künstlerhaus\, Fronberger Straße 31\, Schwandorf
ORGANIZER;CN=Oberpfälzer Künstlerhaus:mailto:opf.kuenstlerhaus@schwandorf.d
 e
SEQUENCE:0
SUMMARY:Ausstellungseröffnung: NEIN! Boris Lurie und NO!art
UID:e_101172584_iv0
URL:http://pages.destination.one/de/oberpfaelzerwald/streaming/detail/Event
 /e_101172584/ausstellungser-ffnung-nein-boris-lurie-und-no-art
END:VEVENT
BEGIN:VTIMEZONE
TZID:Europe/Berlin
X-LIC-LOCATION:Europe/Berlin
BEGIN:DAYLIGHT
DTSTART:19700329T020000
RRULE:FREQ=YEARLY;BYDAY=-1SU;BYMONTH=3
TZNAME:CEST
TZOFFSETFROM:+0100
TZOFFSETTO:+0200
END:DAYLIGHT
BEGIN:STANDARD
DTSTART:19701025T030000
RRULE:FREQ=YEARLY;BYDAY=-1SU;BYMONTH=10
TZNAME:CET
TZOFFSETFROM:+0200
TZOFFSETTO:+0100
END:STANDARD
END:VTIMEZONE
END:VCALENDAR
