BEGIN:VCALENDAR
VERSION:2.0
PRODID:-//destination.one//NONSGML destination.meta API//DE
X-WR-CALDESC:A calendar powered by destination.meta
X-WR-CALNAME:oberpfaelzerwald Kalender via destination.meta
BEGIN:VEVENT
CATEGORIES:Gesundheit/Wellness
CATEGORIES:Kurs/Seminar/Hobby
DESCRIPTION:Leitung: Karin Holleis\, Kräuterpädagogin\n\nmehr Informationen
  unter http://pages.destination.one/de/oberpfaelzerwald/streaming/detail/E
 vent/e_101181766/wurzelkraft-aus-der-natur-eintauchen-ausgraben-genie-en-h
 eilen
DTEND;TZID=Europe/Berlin:20261011T160000
DTSTAMP:20260421T111215Z
DTSTART;TZID=Europe/Berlin:20261011T090000
GEO:50.003222;12.311372
LOCATION:Gartenschulhaus\, Eingang Brauhausstraße \, Waldsassen
ORGANIZER;CN=Umweltstation - Abtei Waldsassen:mailto:umweltstation@abtei-wa
 ldsassen.de
SEQUENCE:0
SUMMARY:Wurzelkraft aus der Natur : Eintauchen - Ausgraben – Genießen - Hei
 len
UID:e_101181766_iv0
URL:http://pages.destination.one/de/oberpfaelzerwald/streaming/detail/Event
 /e_101181766/wurzelkraft-aus-der-natur-eintauchen-ausgraben-genie-en-heile
 n
END:VEVENT
BEGIN:VTIMEZONE
TZID:Europe/Berlin
X-LIC-LOCATION:Europe/Berlin
BEGIN:DAYLIGHT
DTSTART:19700329T020000
RRULE:FREQ=YEARLY;BYDAY=-1SU;BYMONTH=3
TZNAME:CEST
TZOFFSETFROM:+0100
TZOFFSETTO:+0200
END:DAYLIGHT
BEGIN:STANDARD
DTSTART:19701025T030000
RRULE:FREQ=YEARLY;BYDAY=-1SU;BYMONTH=10
TZNAME:CET
TZOFFSETFROM:+0200
TZOFFSETTO:+0100
END:STANDARD
END:VTIMEZONE
END:VCALENDAR
