BEGIN:VCALENDAR
VERSION:2.0
PRODID:-//destination.one//NONSGML destination.meta API//DE
X-WR-CALDESC:A calendar powered by destination.meta
X-WR-CALNAME:oberpfaelzerwald Kalender via destination.meta
BEGIN:VEVENT
CATEGORIES:Ausflugsfahrten
CATEGORIES:Sport/Freizeit
DESCRIPTION:Rad-Tour von Bodenwöhr aus über Neubäu nach Roding und über das
  Regental zurück\n\nmehr Informationen unter http://pages.destination.one/
 de/oberpfaelzerwald/streaming/detail/Event/e_101219601/rad-tour
DTEND;TZID=Europe/Berlin:20260705T160000
DTSTAMP:20260421T091227Z
DTSTART;TZID=Europe/Berlin:20260705T100000
GEO:49.270465;12.303835
LOCATION:Pfarrkirche St. Barbara\, Kirchweg 3\, Bodenwöhr
ORGANIZER;CN=Gemeinde Bodenwöhr:mailto:info@bodenwoehr.de
SEQUENCE:0
SUMMARY:Rad-Tour 
UID:e_101219601_iv0
URL:http://pages.destination.one/de/oberpfaelzerwald/streaming/detail/Event
 /e_101219601/rad-tour
END:VEVENT
BEGIN:VTIMEZONE
TZID:Europe/Berlin
X-LIC-LOCATION:Europe/Berlin
BEGIN:DAYLIGHT
DTSTART:19700329T020000
RRULE:FREQ=YEARLY;BYDAY=-1SU;BYMONTH=3
TZNAME:CEST
TZOFFSETFROM:+0100
TZOFFSETTO:+0200
END:DAYLIGHT
BEGIN:STANDARD
DTSTART:19701025T030000
RRULE:FREQ=YEARLY;BYDAY=-1SU;BYMONTH=10
TZNAME:CET
TZOFFSETFROM:+0200
TZOFFSETTO:+0100
END:STANDARD
END:VTIMEZONE
END:VCALENDAR
