BEGIN:VCALENDAR
VERSION:2.0
PRODID:-//destination.one//NONSGML destination.meta API//DE
X-WR-CALDESC:A calendar powered by destination.meta
X-WR-CALNAME:oberpfaelzerwald Kalender via destination.meta
BEGIN:VEVENT
CATEGORIES:Brauchtum/Kultur
CATEGORIES:Geselligkeit/Spiele/Treffen
CATEGORIES:Regionale Spezialitäten
CATEGORIES:Sonstiges
CATEGORIES:Volks- und Straßenfeste
DESCRIPTION:\n\nmehr Informationen unter http://pages.destination.one/de/ob
 erpfaelzerwald/streaming/detail/Event/e_101223056/maibaum-aufstellen-in-sc
 h-nsee
DTEND;TZID=Europe/Berlin:20260426T235900
DTSTAMP:20260420T001823Z
DTSTART;TZID=Europe/Berlin:20260426T140000
GEO:49.509738;12.547113
LOCATION:Rathausplatz\, Hauptstraße 25\, Schönsee
ORGANIZER;CN=Freiwillige Feuerwehr Schönsee:mailto:xmbayer@t-online.de
SEQUENCE:0
SUMMARY:Maibaum aufstellen in Schönsee
UID:e_101223056_iv0
URL:http://pages.destination.one/de/oberpfaelzerwald/streaming/detail/Event
 /e_101223056/maibaum-aufstellen-in-sch-nsee
END:VEVENT
BEGIN:VTIMEZONE
TZID:Europe/Berlin
X-LIC-LOCATION:Europe/Berlin
BEGIN:DAYLIGHT
DTSTART:19700329T020000
RRULE:FREQ=YEARLY;BYDAY=-1SU;BYMONTH=3
TZNAME:CEST
TZOFFSETFROM:+0100
TZOFFSETTO:+0200
END:DAYLIGHT
BEGIN:STANDARD
DTSTART:19701025T030000
RRULE:FREQ=YEARLY;BYDAY=-1SU;BYMONTH=10
TZNAME:CET
TZOFFSETFROM:+0200
TZOFFSETTO:+0100
END:STANDARD
END:VTIMEZONE
END:VCALENDAR
