BEGIN:VCALENDAR
VERSION:2.0
PRODID:-//destination.one//NONSGML destination.meta API//DE
X-WR-CALDESC:A calendar powered by destination.meta
X-WR-CALNAME:oberpfaelzerwald Kalender via destination.meta
BEGIN:VEVENT
CATEGORIES:Feste/Bälle/Tanz
DESCRIPTION:\n\nmehr Informationen unter http://pages.destination.one/de/ob
 erpfaelzerwald/streaming/detail/Event/e_101234927/20j-hriges-jubil-um-der-
 gartenschau-cheb-marktredwitz
DTEND;TZID=Europe/Berlin;VALUE=DATE:20260525
DTSTAMP:20260424T093740Z
DTSTART;TZID=Europe/Berlin;VALUE=DATE:20260523
GEO:50.079066;12.370348
LOCATION:Touristeninformationszentrum Cheb\, Jateční 476/2\, 350 02 Cheb 2\
 , Tschechien\, Waldsassen
ORGANIZER;CN=Touristeninformationszentrum Cheb:mailto:infozentrum@mestocheb
 .cz
SEQUENCE:0
SUMMARY:20jähriges Jubiläum der Gartenschau Cheb-Marktredwitz
UID:e_101234927_iv0
URL:http://pages.destination.one/de/oberpfaelzerwald/streaming/detail/Event
 /e_101234927/20j-hriges-jubil-um-der-gartenschau-cheb-marktredwitz
END:VEVENT
BEGIN:VTIMEZONE
TZID:Europe/Berlin
X-LIC-LOCATION:Europe/Berlin
BEGIN:DAYLIGHT
DTSTART:19700329T020000
RRULE:FREQ=YEARLY;BYDAY=-1SU;BYMONTH=3
TZNAME:CEST
TZOFFSETFROM:+0100
TZOFFSETTO:+0200
END:DAYLIGHT
BEGIN:STANDARD
DTSTART:19701025T030000
RRULE:FREQ=YEARLY;BYDAY=-1SU;BYMONTH=10
TZNAME:CET
TZOFFSETFROM:+0200
TZOFFSETTO:+0100
END:STANDARD
END:VTIMEZONE
END:VCALENDAR
