BEGIN:VCALENDAR
VERSION:2.0
PRODID:-//destination.one//NONSGML destination.meta API//DE
X-WR-CALDESC:A calendar powered by destination.meta
X-WR-CALNAME:oberpfaelzerwald Kalender via destination.meta
BEGIN:VEVENT
CATEGORIES:Konzert
DESCRIPTION:\n\nmehr Informationen unter http://pages.destination.one/de/ob
 erpfaelzerwald/streaming/detail/Event/e_101255360/jazz-trifft-brasilianisc
 he-melodien
DTEND;TZID=Europe/Berlin:20260513T235900
DTSTAMP:20260422T103352Z
DTSTART;TZID=Europe/Berlin:20260513T190000
GEO:49.753816;11.831422
LOCATION:Malzhaus \, Wassergasse 7\, Eschenbach i.d.OPf.
ORGANIZER;CN=Stadt Eschenbach i.d.OPf.:mailto:cheindl@eschenbach-opf.de
SEQUENCE:0
SUMMARY:Jazz trifft Brasilianische Melodien
UID:e_101255360_iv0
URL:http://pages.destination.one/de/oberpfaelzerwald/streaming/detail/Event
 /e_101255360/jazz-trifft-brasilianische-melodien
END:VEVENT
BEGIN:VTIMEZONE
TZID:Europe/Berlin
X-LIC-LOCATION:Europe/Berlin
BEGIN:DAYLIGHT
DTSTART:19700329T020000
RRULE:FREQ=YEARLY;BYDAY=-1SU;BYMONTH=3
TZNAME:CEST
TZOFFSETFROM:+0100
TZOFFSETTO:+0200
END:DAYLIGHT
BEGIN:STANDARD
DTSTART:19701025T030000
RRULE:FREQ=YEARLY;BYDAY=-1SU;BYMONTH=10
TZNAME:CET
TZOFFSETFROM:+0200
TZOFFSETTO:+0100
END:STANDARD
END:VTIMEZONE
END:VCALENDAR
