BEGIN:VCALENDAR
VERSION:2.0
PRODID:-//destination.one//NONSGML destination.meta API//DE
X-WR-CALDESC:A calendar powered by destination.meta
X-WR-CALNAME:oberpfaelzerwald Kalender via destination.meta
BEGIN:VEVENT
CATEGORIES:Brauchtum/Kultur
CATEGORIES:Kulturkalender
DESCRIPTION:Die Schlossschützen Neusath feiern Kirwa!\n\nmehr Informationen
  unter http://pages.destination.one/de/oberpfaelzerwald/streaming/detail/E
 vent/e_101256506/kirwa-im-sch-tzenheim-mit-b-llertreffen
DTEND;TZID=Europe/Berlin:20260530T235900
DTSTAMP:20260424T091626Z
DTSTART;TZID=Europe/Berlin:20260530T180000
GEO:49.465210;12.210704
LOCATION:Schloßschützen Neusath\, Neusath 23\, Nabburg
ORGANIZER;CN=Schloßschützen Neusath:mailto:info@schlossschuetzen-neusath.de
SEQUENCE:0
SUMMARY:Kirwa im Schützenheim mit Böllertreffen
UID:e_101256506_iv0
URL:http://pages.destination.one/de/oberpfaelzerwald/streaming/detail/Event
 /e_101256506/kirwa-im-sch-tzenheim-mit-b-llertreffen
END:VEVENT
BEGIN:VEVENT
CATEGORIES:Brauchtum/Kultur
CATEGORIES:Kulturkalender
DESCRIPTION:Die Schlossschützen Neusath feiern Kirwa!\n\nmehr Informationen
  unter http://pages.destination.one/de/oberpfaelzerwald/streaming/detail/E
 vent/e_101256506/kirwa-im-sch-tzenheim-mit-b-llertreffen
DTEND;TZID=Europe/Berlin:20260531T235900
DTSTAMP:20260424T091626Z
DTSTART;TZID=Europe/Berlin:20260531T093000
GEO:49.465210;12.210704
LOCATION:Schloßschützen Neusath\, Neusath 23\, Nabburg
ORGANIZER;CN=Schloßschützen Neusath:mailto:info@schlossschuetzen-neusath.de
SEQUENCE:0
SUMMARY:Kirwa im Schützenheim mit Böllertreffen
UID:e_101256506_iv1
URL:http://pages.destination.one/de/oberpfaelzerwald/streaming/detail/Event
 /e_101256506/kirwa-im-sch-tzenheim-mit-b-llertreffen
END:VEVENT
BEGIN:VTIMEZONE
TZID:Europe/Berlin
X-LIC-LOCATION:Europe/Berlin
BEGIN:DAYLIGHT
DTSTART:19700329T020000
RRULE:FREQ=YEARLY;BYDAY=-1SU;BYMONTH=3
TZNAME:CEST
TZOFFSETFROM:+0100
TZOFFSETTO:+0200
END:DAYLIGHT
BEGIN:STANDARD
DTSTART:19701025T030000
RRULE:FREQ=YEARLY;BYDAY=-1SU;BYMONTH=10
TZNAME:CET
TZOFFSETFROM:+0200
TZOFFSETTO:+0100
END:STANDARD
END:VTIMEZONE
END:VCALENDAR
