BEGIN:VCALENDAR
VERSION:2.0
PRODID:-//destination.one//NONSGML destination.meta API//DE
X-WR-CALDESC:A calendar powered by destination.meta
X-WR-CALNAME:oberpfaelzerwald Kalender via destination.meta
BEGIN:VEVENT
CATEGORIES:Sonstiges
DESCRIPTION:\n\nmehr Informationen unter http://pages.destination.one/de/ob
 erpfaelzerwald/streaming/detail/Event/e_101259304/no-sleep-till-badehaus-e
 in-wochenende-mit-achim-sechzig-bogdahn-lesung-gartenfest
DTEND;TZID=Europe/Berlin:20260612T235900
DTSTAMP:20260423T130655Z
DTSTART;TZID=Europe/Berlin:20260612T190000
GEO:49.988797;12.409004
LOCATION:Kunstprojekt "DAS BADEHAUS"\, Maiersreuth 10\, Bad Neualbenreuth
SEQUENCE:0
SUMMARY:No Sleep Till Badehaus\, Ein Wochenende mit Achim Sechzig Bogdahn -
  Lesung & Gartenfest
UID:e_101259304_iv0
URL:http://pages.destination.one/de/oberpfaelzerwald/streaming/detail/Event
 /e_101259304/no-sleep-till-badehaus-ein-wochenende-mit-achim-sechzig-bogda
 hn-lesung-gartenfest
END:VEVENT
BEGIN:VTIMEZONE
TZID:Europe/Berlin
X-LIC-LOCATION:Europe/Berlin
BEGIN:DAYLIGHT
DTSTART:19700329T020000
RRULE:FREQ=YEARLY;BYDAY=-1SU;BYMONTH=3
TZNAME:CEST
TZOFFSETFROM:+0100
TZOFFSETTO:+0200
END:DAYLIGHT
BEGIN:STANDARD
DTSTART:19701025T030000
RRULE:FREQ=YEARLY;BYDAY=-1SU;BYMONTH=10
TZNAME:CET
TZOFFSETFROM:+0200
TZOFFSETTO:+0100
END:STANDARD
END:VTIMEZONE
END:VCALENDAR
