BEGIN:VCALENDAR
VERSION:2.0
PRODID:-//destination.one//NONSGML destination.meta API//DE
X-WR-CALDESC:A calendar powered by destination.meta
X-WR-CALNAME:oberpfaelzerwald Kalender via destination.meta
BEGIN:VEVENT
CATEGORIES:Brauchtum/Kultur
DESCRIPTION:Wir lernen Schafkopfen\n\nmehr Informationen unter http://pages
 .destination.one/de/oberpfaelzerwald/streaming/detail/Event/e_101259325/wi
 r-lernen-schafkopfen
DTEND;TZID=Europe/Berlin:20260507T235900
DTSTAMP:20260423T124647Z
DTSTART;TZID=Europe/Berlin:20260507T190000
GEO:50.002819;12.249606
LOCATION:Feuerwehrhaus Neudorf\, Neudorf 17b\, Konnersreuth
SEQUENCE:0
SUMMARY:Wir lernen Schafkopfen
UID:e_101259325_iv0
URL:http://pages.destination.one/de/oberpfaelzerwald/streaming/detail/Event
 /e_101259325/wir-lernen-schafkopfen
END:VEVENT
BEGIN:VEVENT
CATEGORIES:Brauchtum/Kultur
DESCRIPTION:Wir lernen Schafkopfen\n\nmehr Informationen unter http://pages
 .destination.one/de/oberpfaelzerwald/streaming/detail/Event/e_101259325/wi
 r-lernen-schafkopfen
DTEND;TZID=Europe/Berlin:20260512T235900
DTSTAMP:20260423T124647Z
DTSTART;TZID=Europe/Berlin:20260512T190000
GEO:50.002819;12.249606
LOCATION:Feuerwehrhaus Neudorf\, Neudorf 17b\, Konnersreuth
SEQUENCE:0
SUMMARY:Wir lernen Schafkopfen
UID:e_101259325_iv1
URL:http://pages.destination.one/de/oberpfaelzerwald/streaming/detail/Event
 /e_101259325/wir-lernen-schafkopfen
END:VEVENT
BEGIN:VEVENT
CATEGORIES:Brauchtum/Kultur
DESCRIPTION:Wir lernen Schafkopfen\n\nmehr Informationen unter http://pages
 .destination.one/de/oberpfaelzerwald/streaming/detail/Event/e_101259325/wi
 r-lernen-schafkopfen
DTEND;TZID=Europe/Berlin:20260521T235900
DTSTAMP:20260423T124647Z
DTSTART;TZID=Europe/Berlin:20260521T190000
GEO:50.002819;12.249606
LOCATION:Feuerwehrhaus Neudorf\, Neudorf 17b\, Konnersreuth
SEQUENCE:0
SUMMARY:Wir lernen Schafkopfen
UID:e_101259325_iv2
URL:http://pages.destination.one/de/oberpfaelzerwald/streaming/detail/Event
 /e_101259325/wir-lernen-schafkopfen
END:VEVENT
BEGIN:VTIMEZONE
TZID:Europe/Berlin
X-LIC-LOCATION:Europe/Berlin
BEGIN:DAYLIGHT
DTSTART:19700329T020000
RRULE:FREQ=YEARLY;BYDAY=-1SU;BYMONTH=3
TZNAME:CEST
TZOFFSETFROM:+0100
TZOFFSETTO:+0200
END:DAYLIGHT
BEGIN:STANDARD
DTSTART:19701025T030000
RRULE:FREQ=YEARLY;BYDAY=-1SU;BYMONTH=10
TZNAME:CET
TZOFFSETFROM:+0200
TZOFFSETTO:+0100
END:STANDARD
END:VTIMEZONE
END:VCALENDAR
