BEGIN:VCALENDAR
VERSION:2.0
PRODID:-//destination.one//NONSGML destination.meta API//DE
X-WR-CALDESC:A calendar powered by destination.meta
X-WR-CALNAME:oberpfaelzerwald Kalender via destination.meta
BEGIN:VEVENT
CATEGORIES:Theater/Festspiele
DESCRIPTION:Finale Termine von "Spamalot" angekündigt - inklusiver großer A
 bschlussparty\n\nmehr Informationen unter http://pages.destination.one/de/
 oberpfaelzerwald/streaming/detail/Event/e_101259423/monty-python-s-spamalo
 t-musical-des-ovigo-theater-s
DTEND;TZID=Europe/Berlin:20261010T235900
DTSTAMP:20260422T115455Z
DTSTART;TZID=Europe/Berlin:20261010T200000
GEO:49.347605;12.390776
LOCATION:Schwarzachtalhalle\, Rötzer Straße 2\, Neunburg vorm Wald
ORGANIZER;CN=OVIGO-Theater:mailto:info@ovigo-theater.de
PRIORITY:4
SEQUENCE:0
SUMMARY:Monty Python's Spamalot (Musical) des OVIGO-Theater's 
UID:e_101259423_iv0
URL:http://pages.destination.one/de/oberpfaelzerwald/streaming/detail/Event
 /e_101259423/monty-python-s-spamalot-musical-des-ovigo-theater-s
END:VEVENT
BEGIN:VEVENT
CATEGORIES:Theater/Festspiele
DESCRIPTION:Finale Termine von "Spamalot" angekündigt - inklusiver großer A
 bschlussparty\n\nmehr Informationen unter http://pages.destination.one/de/
 oberpfaelzerwald/streaming/detail/Event/e_101259423/monty-python-s-spamalo
 t-musical-des-ovigo-theater-s
DTEND;TZID=Europe/Berlin:20261011T235900
DTSTAMP:20260422T115455Z
DTSTART;TZID=Europe/Berlin:20261011T190000
GEO:49.347605;12.390776
LOCATION:Schwarzachtalhalle\, Rötzer Straße 2\, Neunburg vorm Wald
ORGANIZER;CN=OVIGO-Theater:mailto:info@ovigo-theater.de
PRIORITY:4
SEQUENCE:0
SUMMARY:Monty Python's Spamalot (Musical) des OVIGO-Theater's 
UID:e_101259423_iv1
URL:http://pages.destination.one/de/oberpfaelzerwald/streaming/detail/Event
 /e_101259423/monty-python-s-spamalot-musical-des-ovigo-theater-s
END:VEVENT
BEGIN:VEVENT
CATEGORIES:Theater/Festspiele
DESCRIPTION:Finale Termine von "Spamalot" angekündigt - inklusiver großer A
 bschlussparty\n\nmehr Informationen unter http://pages.destination.one/de/
 oberpfaelzerwald/streaming/detail/Event/e_101259423/monty-python-s-spamalo
 t-musical-des-ovigo-theater-s
DTEND;TZID=Europe/Berlin:20261016T235900
DTSTAMP:20260422T115455Z
DTSTART;TZID=Europe/Berlin:20261016T200000
GEO:49.347605;12.390776
LOCATION:Schwarzachtalhalle\, Rötzer Straße 2\, Neunburg vorm Wald
ORGANIZER;CN=OVIGO-Theater:mailto:info@ovigo-theater.de
PRIORITY:4
SEQUENCE:0
SUMMARY:Monty Python's Spamalot (Musical) des OVIGO-Theater's 
UID:e_101259423_iv2
URL:http://pages.destination.one/de/oberpfaelzerwald/streaming/detail/Event
 /e_101259423/monty-python-s-spamalot-musical-des-ovigo-theater-s
END:VEVENT
BEGIN:VEVENT
CATEGORIES:Theater/Festspiele
DESCRIPTION:Finale Termine von "Spamalot" angekündigt - inklusiver großer A
 bschlussparty\n\nmehr Informationen unter http://pages.destination.one/de/
 oberpfaelzerwald/streaming/detail/Event/e_101259423/monty-python-s-spamalo
 t-musical-des-ovigo-theater-s
DTEND;TZID=Europe/Berlin:20261017T235900
DTSTAMP:20260422T115455Z
DTSTART;TZID=Europe/Berlin:20261017T200000
GEO:49.347605;12.390776
LOCATION:Schwarzachtalhalle\, Rötzer Straße 2\, Neunburg vorm Wald
ORGANIZER;CN=OVIGO-Theater:mailto:info@ovigo-theater.de
PRIORITY:4
SEQUENCE:0
SUMMARY:Monty Python's Spamalot (Musical) des OVIGO-Theater's 
UID:e_101259423_iv3
URL:http://pages.destination.one/de/oberpfaelzerwald/streaming/detail/Event
 /e_101259423/monty-python-s-spamalot-musical-des-ovigo-theater-s
END:VEVENT
BEGIN:VTIMEZONE
TZID:Europe/Berlin
X-LIC-LOCATION:Europe/Berlin
BEGIN:DAYLIGHT
DTSTART:19700329T020000
RRULE:FREQ=YEARLY;BYDAY=-1SU;BYMONTH=3
TZNAME:CEST
TZOFFSETFROM:+0100
TZOFFSETTO:+0200
END:DAYLIGHT
BEGIN:STANDARD
DTSTART:19701025T030000
RRULE:FREQ=YEARLY;BYDAY=-1SU;BYMONTH=10
TZNAME:CET
TZOFFSETFROM:+0200
TZOFFSETTO:+0100
END:STANDARD
END:VTIMEZONE
END:VCALENDAR
