BEGIN:VCALENDAR
VERSION:2.0
PRODID:-//destination.one//NONSGML destination.meta API//DE
X-WR-CALDESC:A calendar powered by destination.meta
X-WR-CALNAME:oberpfaelzerwald Kalender via destination.meta
BEGIN:VEVENT
CATEGORIES:Genuss/Gourmet
CATEGORIES:Regionale Spezialitäten
CATEGORIES:Volks- und Straßenfeste
DESCRIPTION:\n\nmehr Informationen unter http://pages.destination.one/de/ob
 erpfaelzerwald/streaming/detail/Event/e_101260564/hollerk-chlfest
DTEND;TZID=Europe/Berlin:20260607T235900
DTSTAMP:20260425T210658Z
DTSTART;TZID=Europe/Berlin:20260607T110000
GEO:49.722315;12.277179
LOCATION:Naturerlebnis "Garten der Sinne" Kreislehrgarten Floß\, Vohenstrau
 ßer Straße 21\, Floß
SEQUENCE:0
SUMMARY:Hollerküchlfest 
UID:e_101260564_iv0
URL:http://pages.destination.one/de/oberpfaelzerwald/streaming/detail/Event
 /e_101260564/hollerk-chlfest
END:VEVENT
BEGIN:VTIMEZONE
TZID:Europe/Berlin
X-LIC-LOCATION:Europe/Berlin
BEGIN:DAYLIGHT
DTSTART:19700329T020000
RRULE:FREQ=YEARLY;BYDAY=-1SU;BYMONTH=3
TZNAME:CEST
TZOFFSETFROM:+0100
TZOFFSETTO:+0200
END:DAYLIGHT
BEGIN:STANDARD
DTSTART:19701025T030000
RRULE:FREQ=YEARLY;BYDAY=-1SU;BYMONTH=10
TZNAME:CET
TZOFFSETFROM:+0200
TZOFFSETTO:+0100
END:STANDARD
END:VTIMEZONE
END:VCALENDAR
